Workbook

Sheet Как пользоваться
A1: Таблица выручки магазина — шаблон Veloseller
A3: Руками заполняется только лист «Выручка по дням»: дата, наличные, безнал, возвраты и число чеков. Остальное считается само.
A4: 1. Каждый день — одна строка. Дату вводите датой (01.10.2026), а не текстом.
A5: 2. Возвраты — сумма, которую вернули покупателям в этот день. Выручка без возвратов = наличные + безнал − возвраты.
A6: 3. Средний чек = выручка без возвратов ÷ число чеков.
A7: 4. На листе «Итоги по месяцам» в столбце A — первое число месяца. Итоги, средний чек и средняя выручка в день считаются сами.
A8: Пример за первую неделю октября можно удалить.
A9: Как читать таблицу и что из неё следует: veloseller.ru/baza-znaniy/vyruchka-magazina-kak-poschitat
A10: Выручку по каждому товару и что пора докупить показывает Veloseller: veloseller.ru/programma-ucheta-tovarov

Sheet Выручка по дням
A1: Дата | B1: День недели | C1: Наличные, ₽ | D1: Безнал, ₽ | E1: Выручка за день, ₽ | F1: Возвраты, ₽ | G1: Выручка без возвратов, ₽ | H1: Чеков | I1: Средний чек, ₽
A2: 46296 | B2: =IF(A2="","",CHOOSE(WEEKDAY(A2,2),"пн","вт","ср","чт","пт","сб","вс")) | C2: 9200 | D2: 18400 | E2: =IF(A2="","",C2+D2) | F2: 0 | G2: =IF(A2="","",E2-F2) | H2: 31 | I2: =IF(OR(A2="",H2=0),"",G2/H2)
A3: 46297 | B3: =IF(A3="","",CHOOSE(WEEKDAY(A3,2),"пн","вт","ср","чт","пт","сб","вс")) | C3: 7800 | D3: 16900 | E3: =IF(A3="","",C3+D3) | F3: 1200 | G3: =IF(A3="","",E3-F3) | H3: 27 | I3: =IF(OR(A3="",H3=0),"",G3/H3)
A4: 46298 | B4: =IF(A4="","",CHOOSE(WEEKDAY(A4,2),"пн","вт","ср","чт","пт","сб","вс")) | C4: 8100 | D4: 17300 | E4: =IF(A4="","",C4+D4) | F4: 0 | G4: =IF(A4="","",E4-F4) | H4: 29 | I4: =IF(OR(A4="",H4=0),"",G4/H4)
A5: 46299 | B5: =IF(A5="","",CHOOSE(WEEKDAY(A5,2),"пн","вт","ср","чт","пт","сб","вс")) | C5: 9900 | D5: 19800 | E5: =IF(A5="","",C5+D5) | F5: 0 | G5: =IF(A5="","",E5-F5) | H5: 33 | I5: =IF(OR(A5="",H5=0),"",G5/H5)
A6: 46300 | B6: =IF(A6="","",CHOOSE(WEEKDAY(A6,2),"пн","вт","ср","чт","пт","сб","вс")) | C6: 14600 | D6: 28700 | E6: =IF(A6="","",C6+D6) | F6: 2300 | G6: =IF(A6="","",E6-F6) | H6: 46 | I6: =IF(OR(A6="",H6=0),"",G6/H6)
A7: 46301 | B7: =IF(A7="","",CHOOSE(WEEKDAY(A7,2),"пн","вт","ср","чт","пт","сб","вс")) | C7: 17800 | D7: 33400 | E7: =IF(A7="","",C7+D7) | F7: 0 | G7: =IF(A7="","",E7-F7) | H7: 55 | I7: =IF(OR(A7="",H7=0),"",G7/H7)
A8: 46302 | B8: =IF(A8="","",CHOOSE(WEEKDAY(A8,2),"пн","вт","ср","чт","пт","сб","вс")) | C8: 15200 | D8: 29100 | E8: =IF(A8="","",C8+D8) | F8: 900 | G8: =IF(A8="","",E8-F8) | H8: 49 | I8: =IF(OR(A8="",H8=0),"",G8/H8)
B9: =IF(A9="","",CHOOSE(WEEKDAY(A9,2),"пн","вт","ср","чт","пт","сб","вс")) | E9: =IF(A9="","",C9+D9) | G9: =IF(A9="","",E9-F9) | I9: =IF(OR(A9="",H9=0),"",G9/H9)
B10: =IF(A10="","",CHOOSE(WEEKDAY(A10,2),"пн","вт","ср","чт","пт","сб","вс")) | E10: =IF(A10="","",C10+D10) | G10: =IF(A10="","",E10-F10) | I10: =IF(OR(A10="",H10=0),"",G10/H10)
B11: =IF(A11="","",CHOOSE(WEEKDAY(A11,2),"пн","вт","ср","чт","пт","сб","вс")) | E11: =IF(A11="","",C11+D11) | G11: =IF(A11="","",E11-F11) | I11: =IF(OR(A11="",H11=0),"",G11/H11)
B12: =IF(A12="","",CHOOSE(WEEKDAY(A12,2),"пн","вт","ср","чт","пт","сб","вс")) | E12: =IF(A12="","",C12+D12) | G12: =IF(A12="","",E12-F12) | I12: =IF(OR(A12="",H12=0),"",G12/H12)
B13: =IF(A13="","",CHOOSE(WEEKDAY(A13,2),"пн","вт","ср","чт","пт","сб","вс")) | E13: =IF(A13="","",C13+D13) | G13: =IF(A13="","",E13-F13) | I13: =IF(OR(A13="",H13=0),"",G13/H13)
B14: =IF(A14="","",CHOOSE(WEEKDAY(A14,2),"пн","вт","ср","чт","пт","сб","вс")) | E14: =IF(A14="","",C14+D14) | G14: =IF(A14="","",E14-F14) | I14: =IF(OR(A14="",H14=0),"",G14/H14)
B15: =IF(A15="","",CHOOSE(WEEKDAY(A15,2),"пн","вт","ср","чт","пт","сб","вс")) | E15: =IF(A15="","",C15+D15) | G15: =IF(A15="","",E15-F15) | I15: =IF(OR(A15="",H15=0),"",G15/H15)
B16: =IF(A16="","",CHOOSE(WEEKDAY(A16,2),"пн","вт","ср","чт","пт","сб","вс")) | E16: =IF(A16="","",C16+D16) | G16: =IF(A16="","",E16-F16) | I16: =IF(OR(A16="",H16=0),"",G16/H16)
B17: =IF(A17="","",CHOOSE(WEEKDAY(A17,2),"пн","вт","ср","чт","пт","сб","вс")) | E17: =IF(A17="","",C17+D17) | G17: =IF(A17="","",E17-F17) | I17: =IF(OR(A17="",H17=0),"",G17/H17)
B18: =IF(A18="","",CHOOSE(WEEKDAY(A18,2),"пн","вт","ср","чт","пт","сб","вс")) | E18: =IF(A18="","",C18+D18) | G18: =IF(A18="","",E18-F18) | I18: =IF(OR(A18="",H18=0),"",G18/H18)
B19: =IF(A19="","",CHOOSE(WEEKDAY(A19,2),"пн","вт","ср","чт","пт","сб","вс")) | E19: =IF(A19="","",C19+D19) | G19: =IF(A19="","",E19-F19) | I19: =IF(OR(A19="",H19=0),"",G19/H19)
B20: =IF(A20="","",CHOOSE(WEEKDAY(A20,2),"пн","вт","ср","чт","пт","сб","вс")) | E20: =IF(A20="","",C20+D20) | G20: =IF(A20="","",E20-F20) | I20: =IF(OR(A20="",H20=0),"",G20/H20)
... B401: =IF(A401="","",CHOOSE(WEEKDAY(A401,2),"пн","вт","ср","чт","пт","сб","вс")) | E401: =IF(A401="","",C401+D401) | G401: =IF(A401="","",E401-F401) | I401: =IF(OR(A401="",H401=0),"",G401/H401)

Sheet Итоги по месяцам
A1: Месяц | B1: Выручка, ₽ | C1: Возвраты, ₽ | D1: Чеков | E1: Средний чек, ₽ | F1: Дней с продажами | G1: Средняя выручка в день, ₽
A2: 46296 | B2: =SUMIFS('Выручка по дням'!G:G,'Выручка по дням'!A:A,">="&A2,'Выручка по дням'!A:A,"<"&EDATE(A2,1)) | C2: =SUMIFS('Выручка по дням'!F:F,'Выручка по дням'!A:A,">="&A2,'Выручка по дням'!A:A,"<"&EDATE(A2,1)) | D2: =SUMIFS('Выручка по дням'!H:H,'Выручка по дням'!A:A,">="&A2,'Выручка по дням'!A:A,"<"&EDATE(A2,1)) | E2: =IF(D2=0,"",B2/D2) | F2: =COUNTIFS('Выручка по дням'!A:A,">="&A2,'Выручка по дням'!A:A,"<"&EDATE(A2,1),'Выручка по дням'!G:G,">0") | G2: =IF(F2=0,"",B2/F2)
A3: 46327 | B3: =SUMIFS('Выручка по дням'!G:G,'Выручка по дням'!A:A,">="&A3,'Выручка по дням'!A:A,"<"&EDATE(A3,1)) | C3: =SUMIFS('Выручка по дням'!F:F,'Выручка по дням'!A:A,">="&A3,'Выручка по дням'!A:A,"<"&EDATE(A3,1)) | D3: =SUMIFS('Выручка по дням'!H:H,'Выручка по дням'!A:A,">="&A3,'Выручка по дням'!A:A,"<"&EDATE(A3,1)) | E3: =IF(D3=0,"",B3/D3) | F3: =COUNTIFS('Выручка по дням'!A:A,">="&A3,'Выручка по дням'!A:A,"<"&EDATE(A3,1),'Выручка по дням'!G:G,">0") | G3: =IF(F3=0,"",B3/F3)
A4: 46357 | B4: =SUMIFS('Выручка по дням'!G:G,'Выручка по дням'!A:A,">="&A4,'Выручка по дням'!A:A,"<"&EDATE(A4,1)) | C4: =SUMIFS('Выручка по дням'!F:F,'Выручка по дням'!A:A,">="&A4,'Выручка по дням'!A:A,"<"&EDATE(A4,1)) | D4: =SUMIFS('Выручка по дням'!H:H,'Выручка по дням'!A:A,">="&A4,'Выручка по дням'!A:A,"<"&EDATE(A4,1)) | E4: =IF(D4=0,"",B4/D4) | F4: =COUNTIFS('Выручка по дням'!A:A,">="&A4,'Выручка по дням'!A:A,"<"&EDATE(A4,1),'Выручка по дням'!G:G,">0") | G4: =IF(F4=0,"",B4/F4)
A5: 46388 | B5: =SUMIFS('Выручка по дням'!G:G,'Выручка по дням'!A:A,">="&A5,'Выручка по дням'!A:A,"<"&EDATE(A5,1)) | C5: =SUMIFS('Выручка по дням'!F:F,'Выручка по дням'!A:A,">="&A5,'Выручка по дням'!A:A,"<"&EDATE(A5,1)) | D5: =SUMIFS('Выручка по дням'!H:H,'Выручка по дням'!A:A,">="&A5,'Выручка по дням'!A:A,"<"&EDATE(A5,1)) | E5: =IF(D5=0,"",B5/D5) | F5: =COUNTIFS('Выручка по дням'!A:A,">="&A5,'Выручка по дням'!A:A,"<"&EDATE(A5,1),'Выручка по дням'!G:G,">0") | G5: =IF(F5=0,"",B5/F5)
A6: 46419 | B6: =SUMIFS('Выручка по дням'!G:G,'Выручка по дням'!A:A,">="&A6,'Выручка по дням'!A:A,"<"&EDATE(A6,1)) | C6: =SUMIFS('Выручка по дням'!F:F,'Выручка по дням'!A:A,">="&A6,'Выручка по дням'!A:A,"<"&EDATE(A6,1)) | D6: =SUMIFS('Выручка по дням'!H:H,'Выручка по дням'!A:A,">="&A6,'Выручка по дням'!A:A,"<"&EDATE(A6,1)) | E6: =IF(D6=0,"",B6/D6) | F6: =COUNTIFS('Выручка по дням'!A:A,">="&A6,'Выручка по дням'!A:A,"<"&EDATE(A6,1),'Выручка по дням'!G:G,">0") | G6: =IF(F6=0,"",B6/F6)
A7: 46447 | B7: =SUMIFS('Выручка по дням'!G:G,'Выручка по дням'!A:A,">="&A7,'Выручка по дням'!A:A,"<"&EDATE(A7,1)) | C7: =SUMIFS('Выручка по дням'!F:F,'Выручка по дням'!A:A,">="&A7,'Выручка по дням'!A:A,"<"&EDATE(A7,1)) | D7: =SUMIFS('Выручка по дням'!H:H,'Выручка по дням'!A:A,">="&A7,'Выручка по дням'!A:A,"<"&EDATE(A7,1)) | E7: =IF(D7=0,"",B7/D7) | F7: =COUNTIFS('Выручка по дням'!A:A,">="&A7,'Выручка по дням'!A:A,"<"&EDATE(A7,1),'Выручка по дням'!G:G,">0") | G7: =IF(F7=0,"",B7/F7)
A8: 46478 | B8: =SUMIFS('Выручка по дням'!G:G,'Выручка по дням'!A:A,">="&A8,'Выручка по дням'!A:A,"<"&EDATE(A8,1)) | C8: =SUMIFS('Выручка по дням'!F:F,'Выручка по дням'!A:A,">="&A8,'Выручка по дням'!A:A,"<"&EDATE(A8,1)) | D8: =SUMIFS('Выручка по дням'!H:H,'Выручка по дням'!A:A,">="&A8,'Выручка по дням'!A:A,"<"&EDATE(A8,1)) | E8: =IF(D8=0,"",B8/D8) | F8: =COUNTIFS('Выручка по дням'!A:A,">="&A8,'Выручка по дням'!A:A,"<"&EDATE(A8,1),'Выручка по дням'!G:G,">0") | G8: =IF(F8=0,"",B8/F8)
A9: 46508 | B9: =SUMIFS('Выручка по дням'!G:G,'Выручка по дням'!A:A,">="&A9,'Выручка по дням'!A:A,"<"&EDATE(A9,1)) | C9: =SUMIFS('Выручка по дням'!F:F,'Выручка по дням'!A:A,">="&A9,'Выручка по дням'!A:A,"<"&EDATE(A9,1)) | D9: =SUMIFS('Выручка по дням'!H:H,'Выручка по дням'!A:A,">="&A9,'Выручка по дням'!A:A,"<"&EDATE(A9,1)) | E9: =IF(D9=0,"",B9/D9) | F9: =COUNTIFS('Выручка по дням'!A:A,">="&A9,'Выручка по дням'!A:A,"<"&EDATE(A9,1),'Выручка по дням'!G:G,">0") | G9: =IF(F9=0,"",B9/F9)
A10: 46539 | B10: =SUMIFS('Выручка по дням'!G:G,'Выручка по дням'!A:A,">="&A10,'Выручка по дням'!A:A,"<"&EDATE(A10,1)) | C10: =SUMIFS('Выручка по дням'!F:F,'Выручка по дням'!A:A,">="&A10,'Выручка по дням'!A:A,"<"&EDATE(A10,1)) | D10: =SUMIFS('Выручка по дням'!H:H,'Выручка по дням'!A:A,">="&A10,'Выручка по дням'!A:A,"<"&EDATE(A10,1)) | E10: =IF(D10=0,"",B10/D10) | F10: =COUNTIFS('Выручка по дням'!A:A,">="&A10,'Выручка по дням'!A:A,"<"&EDATE(A10,1),'Выручка по дням'!G:G,">0") | G10: =IF(F10=0,"",B10/F10)
A11: 46569 | B11: =SUMIFS('Выручка по дням'!G:G,'Выручка по дням'!A:A,">="&A11,'Выручка по дням'!A:A,"<"&EDATE(A11,1)) | C11: =SUMIFS('Выручка по дням'!F:F,'Выручка по дням'!A:A,">="&A11,'Выручка по дням'!A:A,"<"&EDATE(A11,1)) | D11: =SUMIFS('Выручка по дням'!H:H,'Выручка по дням'!A:A,">="&A11,'Выручка по дням'!A:A,"<"&EDATE(A11,1)) | E11: =IF(D11=0,"",B11/D11) | F11: =COUNTIFS('Выручка по дням'!A:A,">="&A11,'Выручка по дням'!A:A,"<"&EDATE(A11,1),'Выручка по дням'!G:G,">0") | G11: =IF(F11=0,"",B11/F11)
A12: 46600 | B12: =SUMIFS('Выручка по дням'!G:G,'Выручка по дням'!A:A,">="&A12,'Выручка по дням'!A:A,"<"&EDATE(A12,1)) | C12: =SUMIFS('Выручка по дням'!F:F,'Выручка по дням'!A:A,">="&A12,'Выручка по дням'!A:A,"<"&EDATE(A12,1)) | D12: =SUMIFS('Выручка по дням'!H:H,'Выручка по дням'!A:A,">="&A12,'Выручка по дням'!A:A,"<"&EDATE(A12,1)) | E12: =IF(D12=0,"",B12/D12) | F12: =COUNTIFS('Выручка по дням'!A:A,">="&A12,'Выручка по дням'!A:A,"<"&EDATE(A12,1),'Выручка по дням'!G:G,">0") | G12: =IF(F12=0,"",B12/F12)
A13: 46631 | B13: =SUMIFS('Выручка по дням'!G:G,'Выручка по дням'!A:A,">="&A13,'Выручка по дням'!A:A,"<"&EDATE(A13,1)) | C13: =SUMIFS('Выручка по дням'!F:F,'Выручка по дням'!A:A,">="&A13,'Выручка по дням'!A:A,"<"&EDATE(A13,1)) | D13: =SUMIFS('Выручка по дням'!H:H,'Выручка по дням'!A:A,">="&A13,'Выручка по дням'!A:A,"<"&EDATE(A13,1)) | E13: =IF(D13=0,"",B13/D13) | F13: =COUNTIFS('Выручка по дням'!A:A,">="&A13,'Выручка по дням'!A:A,"<"&EDATE(A13,1),'Выручка по дням'!G:G,">0") | G13: =IF(F13=0,"",B13/F13)
... A25: 46997 | B25: =SUMIFS('Выручка по дням'!G:G,'Выручка по дням'!A:A,">="&A25,'Выручка по дням'!A:A,"<"&EDATE(A25,1)) | C25: =SUMIFS('Выручка по дням'!F:F,'Выручка по дням'!A:A,">="&A25,'Выручка по дням'!A:A,"<"&EDATE(A25,1)) | D25: =SUMIFS('Выручка по дням'!H:H,'Выручка по дням'!A:A,">="&A25,'Выручка по дням'!A:A,"<"&EDATE(A25,1)) | E25: =IF(D25=0,"",B25/D25) | F25: =COUNTIFS('Выручка по дням'!A:A,">="&A25,'Выручка по дням'!A:A,"<"&EDATE(A25,1),'Выручка по дням'!G:G,">0") | G25: =IF(F25=0,"",B25/F25)
